Workbook
Name _MailAutoSig: 'Inputs and Assumptions'!$F$5

Sheet Instructions
A1: Use our cost savings calculator to determine customer cost savings. Work with the customer to determine the right inputs based upon their business needs.
A3: 1. Inputs – customize the inputs for each customer
A4: a. # of mailboxes
A5: b. Average employee salary
A6: c. Hourly IT rate
A7: d. Current environment
A8: e. Plan (Exchange or Exchange + Archiving)
A9: f. Desktop software
A10: g. Price per mailbox
A12: 2. Review Adjustable Assumptions and make any required edits
A14: 3. Share the cost savings with the customer so they can learn how much they can save by deploying the “New Standard”

Sheet Inputs and Assumptions
A1: Cost Comparison Calculator: Cloud vs. On-Premise Exchange
C2: Prepared by: | D2: BlueRay Concepts
A4: Step 1: Input information about your environment in the orange fields
C5: # of Mailboxes | D5: 10 | F5: David “DJ” Kent | Q5: Lookup tables - will be hidden:
C6: Average employee salary | D6: 40000 | F6: Server Administration, Account Manager | Q6: Exchange 2007 or earlier on-premise
C7: Hourly IT rate | D7: 75 | F7: BlueRay Concepts | Q7: Exchange 2010 on-premise
C8: Choose current email platform | D8: Exchange 2010 on-premise | F8: http://www.bluerayconcepts.com | Q8: Other on-premise platform (IBM, Novell, Oracle, or other)
C9: Type of set-up | D9: =IF(OR(D8="Exchange 2010 on-premise",D8="No current email platform"),"Upgrade","Migration") -> Upgrade | F9: Kentucky – 270 908-5004 | Q9: Cloud provider (Google, Rackspace, App River, or other)
C10: Choose Your Plan | D10: Exchange + Archiving | F10: California – 530-237-2223 | Q10: No current email platform
C11: Include Office or Outlook? | D11: Outlook Only | F11: sales@bluerayconcepts.com
C12: Enter price per Mailbox of hosted service | D12: 10 | Q12: Exchange | S12: Neither
Q13: Exchange + Archiving | S13: Office
A14: Step 2: Review and Adjust any green Assumptions fields | S14: Outlook Only
D15: Cost | E15: Per unit | F15: Units required | G15: Total Based on Inputs | H15: Type of charge
A17: Exchange
B18: Hardware
C19: Server - Dell PowerEdge R730 with 4-hr onsite service | D19: 1959 | E19: Server | F19: 1 | G19: =D19*F19 -> 1959 | H19: 1 time
B21: Software
C22: Windows Server 2012 | D22: 685 | E22: Server | F22: =F19 -> 1 | G22: =D22*F22 -> 685 | H22: 1 time
C23: Windows Server 2012 CALs | D23: 34.64 | E23: User | F23: =D5 -> 10 | G23: =D23*F23 -> 346.4 | H23: 1 time
C24: Exchange 2013 Server Standard | D24: 699 | E24: Server | F24: =F19 -> 1 | G24: =D24*F24 -> 699 | H24: 1 time
C25: Exchange 2013 Standard User CALs | D25: 78 | E25: User | F25: =D5 -> 10 | G25: =D25*F25 -> 780 | H25: 1 time
C26: Office Standard 2013 (perpetual license) | D26: 373 | E26: User | F26: =D5 -> 10 | G26: =IF(D11="Office",D26*F26,0) -> 0 | H26: 1 time
C27: Outlook (perpetual license) | D27: 109 | E27: User | F27: =D5 -> 10 | G27: =IF(D11="Outlook only",D27*F27,0) -> 1090 | H27: 1 time
B29: Anti-Virus/Anti-Spam
C30: AV/AS appliance - Barracuda Spam Firewall 300 | D30: 2667.99 | E30: Appliance | F30: 1 | G30: =D30*F30 -> 2667.99 | H30: 1 time
C31: AV/AS appliance updates and instant replacement | D31: =699+449 -> 1148 | E31: Appliance | F31: 1 | G31: =D31*F31 -> 1148 | H31: Annual
B33: Storage
C34: Average mailbox size per user in GB | D34: 5 | E34: Mailbox | F34: =D5 -> 10
C35: Cost per GB for SAN using 10 K SCSI Fiber Channel Disks - per server | D35: 3.5 | E35: GB | F35: =IF(F19=2,D34*D5*2,D34*D5) -> 50 | G35: =F35*D35 -> 175 | H35: 1 time
A37: Archiving (if Exchange + Archiving plan, otherwise, not included in comparison)
B38: Hardware Appliance (1 version depending on # of mailboxes)
C39: Barracuda Message Archiver 150 (up to 150 mailboxes) | D39: 1999 | E39: Appliance | F39: 1 | G39: =IF($D$10="Exchange + Archiving",F39*D39,0) -> 1999 | H39: 1 time
C40: Updates and instant replacement | D40: =449+499 -> 948 | E40: Appliance | F40: 1 | G40: =IF($D$10="Exchange + Archiving",F40*D40,0) -> 948 | H40: Annual
C41: Mirrored cloud storage for redundancy | D41: 999 | E41: Appliance | F41: 1 | G41: =IF($D$10="Exchange + Archiving",F41*D41,0) -> 999 | H41: Annual
C42: Barracuda Message Archiver 450 (up to 450 mailboxes) | D42: 8999 | E42: Appliance | F42: 1 | G42: =IF($D$10="Exchange + Archiving",F42*D42,0) -> 8999 | H42: 1 time
C43: Updates and instant replacement | D43: =1999+2449 -> 4448 | E43: Appliance | F43: 1 | G43: =IF($D$10="Exchange + Archiving",F43*D43,0) -> 4448 | H43: Annual
C44: Mirrored cloud storage for redundancy | D44: 4499 | E44: Appliance | F44: 1 | G44: =IF($D$10="Exchange + Archiving",F44*D44,0) -> 4499 | H44: Annual
A46: Datacenter costs
C47: Monthly Power/Cooling | D47: 75 | F47: 1 | G47: =F47*D47 -> 75 | H47: Monthly
...

Sheet Comparison
A1: Cost Comparison Calculator: Cloud vs. On-Premise Exchange
C2: Prepared by: | D2: BlueRay Concepts
A4: Step 3: Comparison based on inputs and assumptions | G4: David “DJ” Kent
G5: Server Administration, Account Manager
D6: ='Inputs and Assumptions'!D10&" plan" -> Exchange + Archiving plan | E6: On-Premise Exchange with integrated Archiving | G6: BlueRay Concepts
B7: One-time costs | G7: http://www.bluerayconcepts.com
C8: Hardware and Appliances | D8: 0 | E8: =IF('Inputs and Assumptions'!D5<150,'Inputs and Assumptions'!G39,'Inputs and Assumptions'!G42)+'Inputs and Assumptions'!G19+'Inputs and Assumptions'!G30 -> 6625.99 | G8: Kentucky – 270 908-5004
C9: Software | D9: 0 | E9: =SUM('Inputs and Assumptions'!G22:G27) -> 3600.4 | G9: California – 530-237-2223
C10: Set-Up | D10: ='Inputs and Assumptions'!G52 -> 375 | E10: ='Inputs and Assumptions'!G52+'Inputs and Assumptions'!G51+'Inputs and Assumptions'!G50 -> 375 | G10: sales@bluerayconcepts.com
C11: Total 1 time costs | D11: =SUM(D8:D10) -> 375 | E11: =SUM(E8:E10) -> 10601.39
B13: Monthly recurring costs
C14: Exchange and professional service fees | D14: ='Inputs and Assumptions'!D5*'Inputs and Assumptions'!D12 -> 100 | E14: 0
C15: AV/AS service fees | D15: 0 | E15: ='Inputs and Assumptions'!G31/12 -> 95.666667
C16: Compliant Archiving service fees | D16: 0 | E16: =IF('Inputs and Assumptions'!D5<150,(SUM('Inputs and Assumptions'!G40:G41)/12),(SUM('Inputs and Assumptions'!G43:G44)/12)) -> 162.25
C17: Datacenter costs | D17: 0 | E17: ='Inputs and Assumptions'!G47 -> 75
C18: Support costs | D18: ='Inputs and Assumptions'!G55 -> 375 | E18: ='Inputs and Assumptions'!G56+'Inputs and Assumptions'!G55 -> 3375
C19: Total monthly costs | D19: =SUM(D14:D18) -> 475 | E19: =SUM(E14:E18) -> 3707.9167
B21: Monthly downtime costs | D21: ='Inputs and Assumptions'!G61 -> 1.4388889 | E21: ='Inputs and Assumptions'!G60 -> 150
C22: Monthly Downtime represents lost productivity and not a business expense, and is calculated separate from Total monthly costs. Its impact is displayed in total 3 Year costs.
C24: Total Year 1 costs | D24: =D11+(D19*12) -> 6075 | E24: =E11+(E19*12) -> 55096.39
C25: Total 3 Year costs | D25: =D11+(D19*36) -> 17475 | E25: =E11+(E19*36) -> 144086.39
C27: Total 3 Year costs with Downtime | D27: =D11+((D19+D21)*36) -> 17526.8 | E27: =E11+((E19+E21)*36) -> 149486.39
C30: This cost comparison calculator is provided for informational use only and does not constitute financial advice. Although cost assumptions relating to the On-Premise solution are derived from industry benchmarks and market level pricing, they are hypothetical and may not be applicable to your specific situation. Provider is not responsible for discrepancies between the calculated results and the actual cost. All information is provided "As-is" and provider disclaims any and all warranties, whether expressed or implied, in connection with the accuracy, completeness, functionality or any other aspect of this cost calculator.
